﻿BEGIN:VCALENDAR
VERSION:2.0
PRODID:-//Bike Auckland - ECPv6.15.20//NONSGML v1.0//EN
CALSCALE:GREGORIAN
METHOD:PUBLISH
X-ORIGINAL-URL:https://www.bikeauckland.org.nz
X-WR-CALDESC:Events for Bike Auckland
REFRESH-INTERVAL;VALUE=DURATION:PT1H
X-Robots-Tag:noindex
X-PUBLISHED-TTL:PT1H
BEGIN:VTIMEZONE
TZID:Pacific/Auckland
BEGIN:STANDARD
TZOFFSETFROM:+1300
TZOFFSETTO:+1200
TZNAME:NZST
DTSTART:20220402T140000
END:STANDARD
BEGIN:DAYLIGHT
TZOFFSETFROM:+1200
TZOFFSETTO:+1300
TZNAME:NZDT
DTSTART:20220924T140000
END:DAYLIGHT
BEGIN:STANDARD
TZOFFSETFROM:+1300
TZOFFSETTO:+1200
TZNAME:NZST
DTSTART:20230401T140000
END:STANDARD
BEGIN:DAYLIGHT
TZOFFSETFROM:+1200
TZOFFSETTO:+1300
TZNAME:NZDT
DTSTART:20230923T140000
END:DAYLIGHT
BEGIN:STANDARD
TZOFFSETFROM:+1300
TZOFFSETTO:+1200
TZNAME:NZST
DTSTART:20240406T140000
END:STANDARD
BEGIN:DAYLIGHT
TZOFFSETFROM:+1200
TZOFFSETTO:+1300
TZNAME:NZDT
DTSTART:20240928T140000
END:DAYLIGHT
END:VTIMEZONE
BEGIN:VEVENT
DTSTART;TZID=Pacific/Auckland:20230221T073000
DTEND;TZID=Pacific/Auckland:20230221T093000
DTSTAMP:20260424T213736
CREATED:20230220T211721Z
LAST-MODIFIED:20230220T211721Z
UID:62149-1676964600-1676971800@www.bikeauckland.org.nz
SUMMARY:Bike Breakfast - Central (K Road) edition
DESCRIPTION:Come along and grab a coffee on us and chat to bike-minded people! \nFirst Thursday of the month at different locations. Follow the Bike Auckland Facebook page for updates. \n*** \nDate: Thursday 2 March 2023 \nTime: 7.30am-9.30am \nLocation: Une-Deux Cafe\, 545 Karangahape Road\, Auckland CBD\, Auckland 1010
URL:https://www.bikeauckland.org.nz/event/bike-breakfast-central-k-road-edition/
LOCATION:Une Deux Cafe\, 545 Karangahape Road\, Auckland\, 1010\, New Zealand
CATEGORIES:Coffee,Free
ATTACH;FMTTYPE=image/png:https://www.bikeauckland.org.nz/wp-content/uploads/2023/02/Bike-Breakfast-Une-Deux-March-23.png
END:VEVENT
END:VCALENDAR