﻿BEGIN:VCALENDAR
VERSION:2.0
PRODID:-//Bike Auckland - ECPv6.15.20//NONSGML v1.0//EN
CALSCALE:GREGORIAN
METHOD:PUBLISH
X-ORIGINAL-URL:https://www.bikeauckland.org.nz
X-WR-CALDESC:Events for Bike Auckland
REFRESH-INTERVAL;VALUE=DURATION:PT1H
X-Robots-Tag:noindex
X-PUBLISHED-TTL:PT1H
BEGIN:VTIMEZONE
TZID:Pacific/Auckland
BEGIN:STANDARD
TZOFFSETFROM:+1300
TZOFFSETTO:+1200
TZNAME:NZST
DTSTART:20220402T140000
END:STANDARD
BEGIN:DAYLIGHT
TZOFFSETFROM:+1200
TZOFFSETTO:+1300
TZNAME:NZDT
DTSTART:20220924T140000
END:DAYLIGHT
BEGIN:STANDARD
TZOFFSETFROM:+1300
TZOFFSETTO:+1200
TZNAME:NZST
DTSTART:20230401T140000
END:STANDARD
BEGIN:DAYLIGHT
TZOFFSETFROM:+1200
TZOFFSETTO:+1300
TZNAME:NZDT
DTSTART:20230923T140000
END:DAYLIGHT
BEGIN:STANDARD
TZOFFSETFROM:+1300
TZOFFSETTO:+1200
TZNAME:NZST
DTSTART:20240406T140000
END:STANDARD
BEGIN:DAYLIGHT
TZOFFSETFROM:+1200
TZOFFSETTO:+1300
TZNAME:NZDT
DTSTART:20240928T140000
END:DAYLIGHT
END:VTIMEZONE
BEGIN:VEVENT
DTSTART;TZID=Pacific/Auckland:20230630T170000
DTEND;TZID=Pacific/Auckland:20230630T210000
DTSTAMP:20260424T231041
CREATED:20230628T001427Z
LAST-MODIFIED:20230628T001427Z
UID:65199-1688144400-1688158800@www.bikeauckland.org.nz
SUMMARY:Bikes n Beers - Onehunga
DESCRIPTION:Join us for an after-work craft ale or two!\nBikes & Beers is Bike Auckland’s monthly catch up for people who like bikes.\nCome to Brothers Beer in Brothers Beer Onehunga for a natter with bikey types from all sorts of obscure backgrounds!\nIf you are a Bike Auckland member\, you are entitled to a free bevvy at this event! How cool is that???\n***\nDate: Friday 30 June 2023\nTime: 5pm – 9pm\nLocation: Brothers Beer Onehunga\, 120 Onehunga Mall\, Onehunga\, Auckland 1061
URL:https://www.bikeauckland.org.nz/event/bikes-n-beers-onehunga/
LOCATION:Brothers Beer Onehunga\, 120 Onehunga Mall\, Onehunga\, Auckland\, Auckland\, 1061\, New Zealand
ATTACH;FMTTYPE=image/jpeg:https://www.bikeauckland.org.nz/wp-content/uploads/2023/06/Bikes-n-Beers-1.jpeg
END:VEVENT
BEGIN:VEVENT
DTSTART;TZID=Pacific/Auckland:20230331T170000
DTEND;TZID=Pacific/Auckland:20230331T210000
DTSTAMP:20260424T231041
CREATED:20230316T235959Z
LAST-MODIFIED:20230317T003655Z
UID:62728-1680282000-1680296400@www.bikeauckland.org.nz
SUMMARY:Bikes and Beers in Onehunga!
DESCRIPTION:Join us for an after-work craft ale or two! \n\n\nBikes & Beers is Bike Auckland’s monthly catch up for people who like bikes. \n\n\nCome to Brothers Beer in Onehunga for a natter with bikey types from all sorts of obscure backgrounds! \n\n\nIf you are a Bike Auckland member\, you are entitled to a free bevvy at this event! How cool is that??? \nAnd Gerry\, to answer your question: No\, you do not have to attend the full four hours! You can just pop in 😅 Cheers mate.
URL:https://www.bikeauckland.org.nz/event/bikes-and-beers-in-onehunga/
LOCATION:Brothers Beer Onehunga\, 120 Onehunga Mall\, Onehunga\, Auckland\, Auckland\, 1061\, New Zealand
CATEGORIES:Food Available,Free
ATTACH;FMTTYPE=image/png:https://www.bikeauckland.org.nz/wp-content/uploads/2023/03/Bikes-Beers-Onehunga.png
END:VEVENT
END:VCALENDAR