﻿BEGIN:VCALENDAR
VERSION:2.0
PRODID:-//Bike Auckland - ECPv6.15.20//NONSGML v1.0//EN
CALSCALE:GREGORIAN
METHOD:PUBLISH
X-WR-CALNAME:Bike Auckland
X-ORIGINAL-URL:https://www.bikeauckland.org.nz
X-WR-CALDESC:Events for Bike Auckland
REFRESH-INTERVAL;VALUE=DURATION:PT1H
X-Robots-Tag:noindex
X-PUBLISHED-TTL:PT1H
BEGIN:VTIMEZONE
TZID:Pacific/Auckland
BEGIN:STANDARD
TZOFFSETFROM:+1300
TZOFFSETTO:+1200
TZNAME:NZST
DTSTART:20200404T140000
END:STANDARD
BEGIN:DAYLIGHT
TZOFFSETFROM:+1200
TZOFFSETTO:+1300
TZNAME:NZDT
DTSTART:20200926T140000
END:DAYLIGHT
BEGIN:STANDARD
TZOFFSETFROM:+1300
TZOFFSETTO:+1200
TZNAME:NZST
DTSTART:20210403T140000
END:STANDARD
BEGIN:DAYLIGHT
TZOFFSETFROM:+1200
TZOFFSETTO:+1300
TZNAME:NZDT
DTSTART:20210925T140000
END:DAYLIGHT
BEGIN:STANDARD
TZOFFSETFROM:+1300
TZOFFSETTO:+1200
TZNAME:NZST
DTSTART:20220402T140000
END:STANDARD
BEGIN:DAYLIGHT
TZOFFSETFROM:+1200
TZOFFSETTO:+1300
TZNAME:NZDT
DTSTART:20220924T140000
END:DAYLIGHT
BEGIN:STANDARD
TZOFFSETFROM:+1300
TZOFFSETTO:+1200
TZNAME:NZST
DTSTART:20230401T140000
END:STANDARD
BEGIN:DAYLIGHT
TZOFFSETFROM:+1200
TZOFFSETTO:+1300
TZNAME:NZDT
DTSTART:20230923T140000
END:DAYLIGHT
BEGIN:STANDARD
TZOFFSETFROM:+1300
TZOFFSETTO:+1200
TZNAME:NZST
DTSTART:20240406T140000
END:STANDARD
BEGIN:DAYLIGHT
TZOFFSETFROM:+1200
TZOFFSETTO:+1300
TZNAME:NZDT
DTSTART:20240928T140000
END:DAYLIGHT
END:VTIMEZONE
BEGIN:VEVENT
DTSTART;TZID=Pacific/Auckland:20230930T131500
DTEND;TZID=Pacific/Auckland:20230930T153000
DTSTAMP:20260425T064102
CREATED:20230926T025854Z
LAST-MODIFIED:20230926T033738Z
UID:67363-1696079700-1696087800@www.bikeauckland.org.nz
SUMMARY:Crafternoon - make signs for the climate rally!
DESCRIPTION:Join us this Saturday afternoon at the HR4 studio at the Lake Arts Centre. We’ll get creative – and potentially messy – in preparation for the coming climate strike.\n\nYou can make banners\, signs\, tshirts – whatever you want to – for the climate rally. We’ll have some craft items available but you should absolutely bring your own things (especially things to paint on) too!\n\nWe’ll be making some big liberate the lane banners to spread the word that giving people access to walk\, cycle\, and wheel from the North Shore to the CBD is a key action that Waka Kotahi can take to empower people to choose climate-friendly transport.\n\nNote: the climate rally is the following Saturday in the CBD.
URL:https://www.bikeauckland.org.nz/event/crafternoon-make-signs-for-the-climate-rally/
LOCATION:The Lake House Arts Centre\, 37 Fred Thomas Drive\, Takapuna\, Auckland\, 0622\, New Zealand
CATEGORIES:Arts,Beginner-Friendly,Family-Friendly,Free
ATTACH;FMTTYPE=image/jpeg:https://www.bikeauckland.org.nz/wp-content/uploads/2023/09/Auckland-demonstration-3_Jun21-768x512-1.jpg
END:VEVENT
BEGIN:VEVENT
DTSTART;TZID=Pacific/Auckland:20210613T100000
DTEND;TZID=Pacific/Auckland:20210613T120000
DTSTAMP:20260425T064102
CREATED:20210602T063825Z
LAST-MODIFIED:20210602T063825Z
UID:50138-1623578400-1623585600@www.bikeauckland.org.nz
SUMMARY:Takapuna Bike Brunch
DESCRIPTION:Come and relax with us at Jam Organic Cafe for Bike Brunch\, our weekend catch-up for people who like bikes hosted by Bike Shore and Bike Auckland.\nAll bike tribes are welcome – from the penny farthing enthusiast to the e-cyclist.\nFrom 10am to 12pm\, we’re keen to meet you and talk about cycling & Takapuna.\nBrunch snacks and your first coffee\, tea\, or hot chocolate is on Bike Auckland! We’ll also have colour-ins for the little ones and the creatively inclined.\nFor the ultimate Sunday morning experience\, take a gentle ride by the markets before heading over to Jam Organic Cafe for your free warm beverage and even warmer conversations.
URL:https://www.bikeauckland.org.nz/event/takapuna-bike-brunch/
LOCATION:Jam Organic Cafe\, 33-45 Hurstmere Road\, Takapuna\, Auckland\, 0622\, New Zealand
CATEGORIES:Beginner-Friendly,Bike Burb,Coffee,Family-Friendly,Free
ATTACH;FMTTYPE=image/png:https://www.bikeauckland.org.nz/wp-content/uploads/2021/05/BikeAKL-Bike-Brunch-1920x1005-yellow.png
GEO:-36.7880923;174.7729684
X-APPLE-STRUCTURED-LOCATION;VALUE=URI;X-ADDRESS=Jam Organic Cafe 33-45 Hurstmere Road Takapuna Auckland 0622 New Zealand;X-APPLE-RADIUS=500;X-TITLE=33-45 Hurstmere Road\, Takapuna:geo:174.7729684,-36.7880923
END:VEVENT
BEGIN:VEVENT
DTSTART;TZID=Pacific/Auckland:20210613T100000
DTEND;TZID=Pacific/Auckland:20210613T120000
DTSTAMP:20260425T064102
CREATED:20210602T063825Z
LAST-MODIFIED:20210602T063825Z
UID:53945-1623578400-1623585600@www.bikeauckland.org.nz
SUMMARY:Takapuna Bike Brunch
DESCRIPTION:Come and relax with us at Jam Organic Cafe for Bike Brunch\, our weekend catch-up for people who like bikes hosted by Bike Shore and Bike Auckland.\nAll bike tribes are welcome – from the penny farthing enthusiast to the e-cyclist.\nFrom 10am to 12pm\, we’re keen to meet you and talk about cycling & Takapuna.\nBrunch snacks and your first coffee\, tea\, or hot chocolate is on Bike Auckland! We’ll also have colour-ins for the little ones and the creatively inclined.\nFor the ultimate Sunday morning experience\, take a gentle ride by the markets before heading over to Jam Organic Cafe for your free warm beverage and even warmer conversations.
URL:https://www.bikeauckland.org.nz/event/takapuna-bike-brunch-2/
LOCATION:Jam Organic Cafe\, 33-45 Hurstmere Road\, Takapuna\, Auckland\, 0622\, New Zealand
CATEGORIES:Beginner-Friendly,Bike Burb,Coffee,Family-Friendly,Free
ATTACH;FMTTYPE=image/png:https://www.bikeauckland.org.nz/wp-content/uploads/2021/05/BikeAKL-Bike-Brunch-1920x1005-yellow.png
GEO:-36.7880923;174.7729684
X-APPLE-STRUCTURED-LOCATION;VALUE=URI;X-ADDRESS=Jam Organic Cafe 33-45 Hurstmere Road Takapuna Auckland 0622 New Zealand;X-APPLE-RADIUS=500;X-TITLE=33-45 Hurstmere Road\, Takapuna:geo:174.7729684,-36.7880923
END:VEVENT
END:VCALENDAR