﻿BEGIN:VCALENDAR
VERSION:2.0
PRODID:-//Bike Auckland - ECPv6.15.17//NONSGML v1.0//EN
CALSCALE:GREGORIAN
METHOD:PUBLISH
X-ORIGINAL-URL:https://www.bikeauckland.org.nz
X-WR-CALDESC:Events for Bike Auckland
REFRESH-INTERVAL;VALUE=DURATION:PT1H
X-Robots-Tag:noindex
X-PUBLISHED-TTL:PT1H
BEGIN:VTIMEZONE
TZID:Pacific/Auckland
BEGIN:STANDARD
TZOFFSETFROM:+1300
TZOFFSETTO:+1200
TZNAME:NZST
DTSTART:20220402T140000
END:STANDARD
BEGIN:DAYLIGHT
TZOFFSETFROM:+1200
TZOFFSETTO:+1300
TZNAME:NZDT
DTSTART:20220924T140000
END:DAYLIGHT
BEGIN:STANDARD
TZOFFSETFROM:+1300
TZOFFSETTO:+1200
TZNAME:NZST
DTSTART:20230401T140000
END:STANDARD
BEGIN:DAYLIGHT
TZOFFSETFROM:+1200
TZOFFSETTO:+1300
TZNAME:NZDT
DTSTART:20230923T140000
END:DAYLIGHT
BEGIN:STANDARD
TZOFFSETFROM:+1300
TZOFFSETTO:+1200
TZNAME:NZST
DTSTART:20240406T140000
END:STANDARD
BEGIN:DAYLIGHT
TZOFFSETFROM:+1200
TZOFFSETTO:+1300
TZNAME:NZDT
DTSTART:20240928T140000
END:DAYLIGHT
BEGIN:STANDARD
TZOFFSETFROM:+1300
TZOFFSETTO:+1200
TZNAME:NZST
DTSTART:20250405T140000
END:STANDARD
BEGIN:DAYLIGHT
TZOFFSETFROM:+1200
TZOFFSETTO:+1300
TZNAME:NZDT
DTSTART:20250927T140000
END:DAYLIGHT
BEGIN:STANDARD
TZOFFSETFROM:+1300
TZOFFSETTO:+1200
TZNAME:NZST
DTSTART:20260404T140000
END:STANDARD
BEGIN:DAYLIGHT
TZOFFSETFROM:+1200
TZOFFSETTO:+1300
TZNAME:NZDT
DTSTART:20260926T140000
END:DAYLIGHT
END:VTIMEZONE
BEGIN:VEVENT
DTSTART;TZID=Pacific/Auckland:20230521T110000
DTEND;TZID=Pacific/Auckland:20230521T160000
DTSTAMP:20260421T092443
CREATED:20230516T062549Z
LAST-MODIFIED:20230516T124509Z
UID:64009-1684666800-1684684800@www.bikeauckland.org.nz
SUMMARY:TryaCycle event series - May 21
DESCRIPTION:FREE EVENT | NO REGISTRATION NEEDED\n\nHave you ever considered cycling\, but never had the opportunity to give it a go due to a disability? If that’s you\, why not come down to the Silo Park Waterfront and try a variety of different cycles from recumbent cycles\, handcycles\, assist power-trikes to wheelchair bikes\, trailer options & more.\n\nThe TryaCycle Event will be held on Sunday 21 May from 11am till 4pm. There will be information on hand around grants to assist you in funding equipment. And/or take to the cycleways with cycles from the equipment loan that has been facilitated by Disability Sport Auckland and the Auckland Whānau Special Needs Support Group. We will have it all here onsite down at Silo Park Waterfront\, Jellicoe Harbour\, 34 Bridgham Street\, Auckland.\n\nNo registration required\, but it’s recommended to book a slot to try a cycle here https://grabyourwheels.nz/events/. Some of the cycles only get brought along if people have booked!\n\nA volunteer support person will be available to ride alongside you.\n\nIt’s smack bang in the heart of Auckland\, next to some wicked protected cycleways and shared paths. So\, even if you already own a hand-cycle\, recumbent\, bike trailer or trike come on down and join in the fun for our Open Day event. Bring your inclusive cycle and we’ll give you a complimentary hot drink voucher. We want to show Tāmaki Makaurau what inclusive cycling is all about.\n\nThere is plenty of parking around Silo Park (including mobility parks) with public accessible toilets close to the playground. The main ferry terminal\, bus and train stations are all under a 30-minutes walk/wheel away.\n\nIf this sounds like you\, then come on down and hang out with the inclusive cycling community! We may even start up our own Inclusive Cycling Bike Burb!\n\nYou can book a session to try out a cycle which may suit you on the safe\, inner-city network. Keep an eye out on the Bike Auckland or Grab Your Wheels Facebook pages for details of the series\, and check out the Grab Your Wheels site for more information about what kinds of cycles and cycle attachments will be available.\n\nSupported by the Waka Kotahi innovation fund\, Hoe ki angitū
URL:https://www.bikeauckland.org.nz/event/tryacycle-event-series/
LOCATION:Silo Park Shared Courts\, -36.83924996964768\, 174.75632899327795
CATEGORIES:Beginner-Friendly,Education,Family-Friendly,Free,Test Rides
ATTACH;FMTTYPE=image/png:https://www.bikeauckland.org.nz/wp-content/uploads/2023/05/TryaCycle2023-05-21.png
END:VEVENT
BEGIN:VEVENT
DTSTART;TZID=Pacific/Auckland:20230528T110000
DTEND;TZID=Pacific/Auckland:20230528T160000
DTSTAMP:20260421T092443
CREATED:20230516T125049Z
LAST-MODIFIED:20230516T125346Z
UID:64023-1685271600-1685289600@www.bikeauckland.org.nz
SUMMARY:TryaCycle event series - May 28
DESCRIPTION:FREE EVENT | NO REGISTRATION NEEDED\n\nHave you ever considered cycling\, but never had the opportunity to give it a go due to a disability? If that’s you\, why not come down to the Silo Park Waterfront and try a variety of different cycles from recumbent cycles\, handcycles\, assist power-trikes to wheelchair bikes\, trailer options & more.\n\nThe TryaCycle Event will be held on Sunday 28 May from 11am till 4pm. There will be information on hand around grants to assist you in funding equipment. And/or take to the cycleways with cycles from the equipment loan that has been facilitated by Disability Sport Auckland and the Auckland Whānau Special Needs Support Group. We will have it all here onsite down at Silo Park Waterfront\, Jellicoe Harbour\, 34 Bridgham Street\, Auckland.\n\nNo registration required\, but it’s recommended to book a slot to try a cycle here https://grabyourwheels.nz/events/. Some of the cycles only get brought along if people have booked!\n\nA volunteer support person will be available to ride alongside you.\n\nIt’s smack bang in the heart of Auckland\, next to some wicked protected cycleways and shared paths. So\, even if you already own a hand-cycle\, recumbent\, bike trailer or trike come on down and join in the fun for our Open Day event. Bring your inclusive cycle and we’ll give you a complimentary hot drink voucher. We want to show Tāmaki Makaurau what inclusive cycling is all about.\n\nThere is plenty of parking around Silo Park (including mobility parks) with public accessible toilets close to the playground. The main ferry terminal\, bus and train stations are all under a 30-minutes walk/wheel away.\n\nIf this sounds like you\, then come on down and hang out with the inclusive cycling community! We may even start up our own Inclusive Cycling Bike Burb!\n\nYou can book a session to try out a cycle which may suit you on the safe\, inner-city network. Keep an eye out on the Bike Auckland or Grab Your Wheels Facebook pages for details of the series\, and check out the Grab Your Wheels site for more information about what kinds of cycles and cycle attachments will be available.\n\nSupported by the Waka Kotahi innovation fund\, Hoe ki angitū
URL:https://www.bikeauckland.org.nz/event/tryacycle-event-series-may-28/
LOCATION:Silo Park Shared Courts\, -36.83924996964768\, 174.75632899327795
CATEGORIES:Beginner-Friendly,Education,Family-Friendly,Free,Test Rides
ATTACH;FMTTYPE=image/png:https://www.bikeauckland.org.nz/wp-content/uploads/2023/05/TryaCycle2023-05-28.png
END:VEVENT
BEGIN:VEVENT
DTSTART;TZID=Pacific/Auckland:20230604T110000
DTEND;TZID=Pacific/Auckland:20230604T160000
DTSTAMP:20260421T092443
CREATED:20230516T125201Z
LAST-MODIFIED:20230516T125342Z
UID:64024-1685876400-1685894400@www.bikeauckland.org.nz
SUMMARY:TryaCycle event series - June 4
DESCRIPTION:FREE EVENT | NO REGISTRATION NEEDED\n\nHave you ever considered cycling\, but never had the opportunity to give it a go due to a disability? If that’s you\, why not come down to the Silo Park Waterfront and try a variety of different cycles from recumbent cycles\, handcycles\, assist power-trikes to wheelchair bikes\, trailer options & more.\n\nThe TryaCycle Event will be held on Sunday 4 June from 11am till 4pm. There will be information on hand around grants to assist you in funding equipment. And/or take to the cycleways with cycles from the equipment loan that has been facilitated by Disability Sport Auckland and the Auckland Whānau Special Needs Support Group. We will have it all here onsite down at Silo Park Waterfront\, Jellicoe Harbour\, 34 Bridgham Street\, Auckland.\n\nNo registration required\, but it’s recommended to book a slot to try a cycle here https://grabyourwheels.nz/events/. Some of the cycles only get brought along if people have booked!\n\nA volunteer support person will be available to ride alongside you.\n\nIt’s smack bang in the heart of Auckland\, next to some wicked protected cycleways and shared paths. So\, even if you already own a hand-cycle\, recumbent\, bike trailer or trike come on down and join in the fun for our Open Day event. Bring your inclusive cycle and we’ll give you a complimentary hot drink voucher. We want to show Tāmaki Makaurau what inclusive cycling is all about.\n\nThere is plenty of parking around Silo Park (including mobility parks) with public accessible toilets close to the playground. The main ferry terminal\, bus and train stations are all under a 30-minutes walk/wheel away.\n\nIf this sounds like you\, then come on down and hang out with the inclusive cycling community! We may even start up our own Inclusive Cycling Bike Burb!\n\nYou can book a session to try out a cycle which may suit you on the safe\, inner-city network. Keep an eye out on the Bike Auckland or Grab Your Wheels Facebook pages for details of the series\, and check out the Grab Your Wheels site for more information about what kinds of cycles and cycle attachments will be available.\n\nSupported by the Waka Kotahi innovation fund\, Hoe ki angitū
URL:https://www.bikeauckland.org.nz/event/tryacycle-event-series-june-4/
LOCATION:Silo Park Shared Courts\, -36.83924996964768\, 174.75632899327795
CATEGORIES:Beginner-Friendly,Education,Family-Friendly,Free,Test Rides
ATTACH;FMTTYPE=image/png:https://www.bikeauckland.org.nz/wp-content/uploads/2023/05/TryaCycle2023-06-04.png
END:VEVENT
BEGIN:VEVENT
DTSTART;TZID=Pacific/Auckland:20250806T090000
DTEND;TZID=Pacific/Auckland:20250806T140000
DTSTAMP:20260421T092443
CREATED:20250801T040618Z
LAST-MODIFIED:20250801T040618Z
UID:83734-1754470800-1754488800@www.bikeauckland.org.nz
SUMMARY:Trikes NZ Demo Day
DESCRIPTION:Looking to explore adaptive cycling options? See what Trikes NZ can do for you at their Demo Day. You can try out a range of trikes\, hand cycles\, and recumbents. The team will be offering demos\, adjustments\, quotes\, and set-ups — plus\, there will be funding information available to help you get started. Details for upcoming event in Auckland: \n Wednesday\, 6 August\n 9:30am – 2:00pm\nSommerville Special School\, Main Hall – 80A Tripoli Road\, Panmure
URL:https://www.bikeauckland.org.nz/event/trikes-nz-demo-day-2/
LOCATION:Sommerville Special School\, 80A Tripoli Road\, Panmure\, Auckland\, 1072\, New Zealand
CATEGORIES:Beginner-Friendly,Family-Friendly,Test Rides
END:VEVENT
END:VCALENDAR