﻿BEGIN:VCALENDAR
VERSION:2.0
PRODID:-//Bike Auckland - ECPv6.15.20//NONSGML v1.0//EN
CALSCALE:GREGORIAN
METHOD:PUBLISH
X-ORIGINAL-URL:https://www.bikeauckland.org.nz
X-WR-CALDESC:Events for Bike Auckland
REFRESH-INTERVAL;VALUE=DURATION:PT1H
X-Robots-Tag:noindex
X-PUBLISHED-TTL:PT1H
BEGIN:VTIMEZONE
TZID:Pacific/Auckland
BEGIN:STANDARD
TZOFFSETFROM:+1300
TZOFFSETTO:+1200
TZNAME:NZST
DTSTART:20250405T140000
END:STANDARD
BEGIN:DAYLIGHT
TZOFFSETFROM:+1200
TZOFFSETTO:+1300
TZNAME:NZDT
DTSTART:20250927T140000
END:DAYLIGHT
BEGIN:STANDARD
TZOFFSETFROM:+1300
TZOFFSETTO:+1200
TZNAME:NZST
DTSTART:20260404T140000
END:STANDARD
BEGIN:DAYLIGHT
TZOFFSETFROM:+1200
TZOFFSETTO:+1300
TZNAME:NZDT
DTSTART:20260926T140000
END:DAYLIGHT
BEGIN:STANDARD
TZOFFSETFROM:+1300
TZOFFSETTO:+1200
TZNAME:NZST
DTSTART:20270403T140000
END:STANDARD
BEGIN:DAYLIGHT
TZOFFSETFROM:+1200
TZOFFSETTO:+1300
TZNAME:NZDT
DTSTART:20270925T140000
END:DAYLIGHT
END:VTIMEZONE
BEGIN:VEVENT
DTSTART;TZID=Pacific/Auckland:20260314T110000
DTEND;TZID=Pacific/Auckland:20260314T150000
DTSTAMP:20260426T023202
CREATED:20260312T213452Z
LAST-MODIFIED:20260312T213452Z
UID:89331-1773486000-1773500400@www.bikeauckland.org.nz
SUMMARY:Molley Green Day
DESCRIPTION:Join us at Hay Park Primary School on Saturday 14 March 2026\, from 11am–3pm for Molley Green Day — a fun community celebration for Roskill South whānau. \nEnjoy performances\, delicious kai\, face painting\, bouncy castles\, and plenty of activities for all ages. \nBring your bike along! A bike mechanic will be on site fixing bikes\, and kids can enjoy rides on the back of a cargo bike. \nWalk\, bike\, or scoot to the event and go in the draw to win one of two $50 AT HOP cards. \nCome along\, bring your whānau\, and enjoy a great day with the community.
URL:https://www.bikeauckland.org.nz/event/molley-green-day/
LOCATION:Hay Park Primary School\, 670 Richardson Road\, Mt Roskill\, Auckland\, 1041\, New Zealand
CATEGORIES:Family-Friendly,Festival,Food Available
ATTACH;FMTTYPE=image/jpeg:https://www.bikeauckland.org.nz/wp-content/uploads/2026/03/WhatsApp-Image-2026-03-13-at-10.13.00-AM.jpeg
END:VEVENT
END:VCALENDAR