﻿BEGIN:VCALENDAR
VERSION:2.0
PRODID:-//Bike Auckland - ECPv6.15.17//NONSGML v1.0//EN
CALSCALE:GREGORIAN
METHOD:PUBLISH
X-ORIGINAL-URL:https://www.bikeauckland.org.nz
X-WR-CALDESC:Events for Bike Auckland
REFRESH-INTERVAL;VALUE=DURATION:PT1H
X-Robots-Tag:noindex
X-PUBLISHED-TTL:PT1H
BEGIN:VTIMEZONE
TZID:Pacific/Auckland
BEGIN:STANDARD
TZOFFSETFROM:+1300
TZOFFSETTO:+1200
TZNAME:NZST
DTSTART:20200404T140000
END:STANDARD
BEGIN:DAYLIGHT
TZOFFSETFROM:+1200
TZOFFSETTO:+1300
TZNAME:NZDT
DTSTART:20200926T140000
END:DAYLIGHT
BEGIN:STANDARD
TZOFFSETFROM:+1300
TZOFFSETTO:+1200
TZNAME:NZST
DTSTART:20210403T140000
END:STANDARD
BEGIN:DAYLIGHT
TZOFFSETFROM:+1200
TZOFFSETTO:+1300
TZNAME:NZDT
DTSTART:20210925T140000
END:DAYLIGHT
BEGIN:STANDARD
TZOFFSETFROM:+1300
TZOFFSETTO:+1200
TZNAME:NZST
DTSTART:20220402T140000
END:STANDARD
BEGIN:DAYLIGHT
TZOFFSETFROM:+1200
TZOFFSETTO:+1300
TZNAME:NZDT
DTSTART:20220924T140000
END:DAYLIGHT
END:VTIMEZONE
BEGIN:VEVENT
DTSTART;TZID=Pacific/Auckland:20210324T100000
DTEND;TZID=Pacific/Auckland:20210324T113000
DTSTAMP:20260422T232831
CREATED:20210311T013657Z
LAST-MODIFIED:20210311T013657Z
UID:53879-1616580000-1616585400@www.bikeauckland.org.nz
SUMMARY:Easy Guided Bike Rides
DESCRIPTION:These weekly rides are intended to help people build more confidence in their riding and/or to discover Henderson cycling routes. The rides will be 5km long and relatively easy\, mostly on off-road cycle trails. For ages 10+. Limited numbers of loan bikes available\, contact us in advance to book. Brought to you by EcoMatters.\n\nFor more information\, visit www.ecomatters.org.nz/on-bikes/bike-hubs.\nAccessible by train\, bus\, bring your own bike.\nShare your photos from this event with #ecofestwest.\nThis event is part of EcoFest West 2021\, a month-long celebration of our stunning environment with more than 140 events: www.ecofest.org.nz.\nThis event might look different if Covid Alert Levels change. If that happens\, check www.ecofest.org.nz for the latest updates.
URL:https://www.bikeauckland.org.nz/event/easy-guided-bike-rides-2/2021-03-24/
LOCATION:Henderson Bike Hub\, 14 Edmonton Road\, Henderson\, Auckland
ATTACH;FMTTYPE=image/jpeg:https://www.bikeauckland.org.nz/wp-content/uploads/2021/03/ecofest21-easy-guided-bike-rides-web-1.jpg
END:VEVENT
END:VCALENDAR