﻿BEGIN:VCALENDAR
VERSION:2.0
PRODID:-//Bike Auckland - ECPv6.15.20//NONSGML v1.0//EN
CALSCALE:GREGORIAN
METHOD:PUBLISH
X-WR-CALNAME:Bike Auckland
X-ORIGINAL-URL:https://www.bikeauckland.org.nz
X-WR-CALDESC:Events for Bike Auckland
REFRESH-INTERVAL;VALUE=DURATION:PT1H
X-Robots-Tag:noindex
X-PUBLISHED-TTL:PT1H
BEGIN:VTIMEZONE
TZID:Pacific/Auckland
BEGIN:STANDARD
TZOFFSETFROM:+1300
TZOFFSETTO:+1200
TZNAME:NZST
DTSTART:20240406T140000
END:STANDARD
BEGIN:DAYLIGHT
TZOFFSETFROM:+1200
TZOFFSETTO:+1300
TZNAME:NZDT
DTSTART:20240928T140000
END:DAYLIGHT
BEGIN:STANDARD
TZOFFSETFROM:+1300
TZOFFSETTO:+1200
TZNAME:NZST
DTSTART:20250405T140000
END:STANDARD
BEGIN:DAYLIGHT
TZOFFSETFROM:+1200
TZOFFSETTO:+1300
TZNAME:NZDT
DTSTART:20250927T140000
END:DAYLIGHT
BEGIN:STANDARD
TZOFFSETFROM:+1300
TZOFFSETTO:+1200
TZNAME:NZST
DTSTART:20260404T140000
END:STANDARD
BEGIN:DAYLIGHT
TZOFFSETFROM:+1200
TZOFFSETTO:+1300
TZNAME:NZDT
DTSTART:20260926T140000
END:DAYLIGHT
END:VTIMEZONE
BEGIN:VEVENT
DTSTART;TZID=Pacific/Auckland:20251203T080000
DTEND;TZID=Pacific/Auckland:20251203T083000
DTSTAMP:20260425T123336
CREATED:20251120T211833Z
LAST-MODIFIED:20251120T211833Z
UID:86954-1764748800-1764750600@www.bikeauckland.org.nz
SUMMARY:Celebrate 10 years of the Lightpath 8am Ride
DESCRIPTION:Join us to ride Te Ara I Whiti on its tenth anniversary.\nTe Ara I Whiti\, the Lightpath was a bold idea to repurpose a disused motorway off-ramp and  turn it into a path for people. Without the early spark and persuasive energy of Bike Auckland’s Max Robitzsch and Barb Cuthbert\, it might still be an unrealised concept. Now this glowing pink ribbon with incredible views is a joyful\, iconic part of our city\, and a cornerstone of the growing network which connects more Aucklanders to where they want to go. \nThe path opened on 3rd December 2015\, after being constructed in a remarkable 9 months from idea to opening. \nFast forward ten years\, and we want to mark this milestone with all of you! Please join us for a celebratory event on the morning of Wednesday 3 December. \nWe are looking for keen riders to help us mark the occasion\nIf you plan on coming along on your bike to ride the path with us for a photo opportunity\, please register your attendance as soon as possible. This allows us to send out any useful info close to the time. \nMeet outside the Electric Bike Team shop by the Canada St end of the path at 8am. We’ll set off soon after. The more the merrier\, so bring a friend and let’s make this big! \nThose on foot\, on scooters\, in wheelchairs\, etc. are all welcome. \nWe look forward to marking the moment with you.
URL:https://www.bikeauckland.org.nz/event/celebrate-10-years-of-the-lightpath-8am-ride/
LOCATION:Electric Bike Team\, 29 East St\, Auckland\, New Zealand
CATEGORIES:Beginner-Friendly,Cultural,Family-Friendly,Group Ride
ATTACH;FMTTYPE=image/jpeg:https://www.bikeauckland.org.nz/wp-content/uploads/2025/11/Lightpath-Festival-WR-02.12.2017-094.jpg
END:VEVENT
BEGIN:VEVENT
DTSTART;TZID=Pacific/Auckland:20251205T190000
DTEND;TZID=Pacific/Auckland:20251205T203000
DTSTAMP:20260425T123336
CREATED:20251203T224340Z
LAST-MODIFIED:20251203T224340Z
UID:87157-1764961200-1764966600@www.bikeauckland.org.nz
SUMMARY:MOTAT Christmas Lights: Sparkly Night Ride
DESCRIPTION:Join Bike Hub Grey Lynn for a Sparkly Night Ride to the MOTAT Christmas Lights!\nBling up your bike with Christmas lights\, get dressed up in theme\, grab your MOTAT Christmas Lights tickets\, and meet us at Bike Hub Grey Lynn for a family-friendly sparkly ride through beautiful greenways to the MOTAT Christmas Lights.\nNot going to the lights? You’re still welcome to join the ride!\n*****\nBe at Bike Hub Grey Lynn (the northern end of Grey Lynn Park) from 7pm to decorate your bike\, have a go on the pump track\, and collect some sparkly freebies such as bike lights and retro-reflective backpack covers.\nOur beginner-friendly group ride will set off at 7.30pm. We’ll be sparkling through the greenways\, cruising briefly along quiet streets\, enjoying Meola Road cycleway\, and grooving around the Western Springs Lake to arrive at MOTAT by 8.15pm.\nThere is secure Bike Valet parking provided at MOTAT for this event\, so you can enjoy the lights worry-free.\n*******\nAbout the ride:\nThis is an ideal ride for kids\, beginner riders\, and riders who want to build their confidence in a fun\, social setting. It is reasonably short\, mostly flat\, and almost completely on shared paths\, and protected cycleways. It will be at a casual\, easy pace and is a ‘no drop’ ride\, meaning we will have stops along the way to re-group.\nYou can see the route here:\nhttps://www.google.com/maps/d/edit?mid=1aIsq9ttoKlDoMYVC3DzNRsao53RSJfI&usp=sharing\nThis event is supported by Waitematā Local Board and hosted by Bike Hub Grey Lynn and Bike Auckland.\n*******\nWhat’s a Bike hub? Bike Hubs are community spaces that help you get on your bike. They offer advice\, free use of bike repair tools\, second-hand bikes for sale\, parts\, and sometimes even e-bike loans. They’ll help you develop your skills and knowledge so you can enjoy the benefits of cycling. Bike Hub Grey Lynn is open from Thurs – Sun\, 10am – 2pm
URL:https://www.bikeauckland.org.nz/event/motat-christmas-lights-sparkly-night-ride/
LOCATION:Grey Lynn Park Bike Hub\, 48 Dryden Street\, Auckland\, 1021
CATEGORIES:Arts,Beginner-Friendly,Family-Friendly
ATTACH;FMTTYPE=image/jpeg:https://www.bikeauckland.org.nz/wp-content/uploads/2025/12/bling.jpg
ORGANIZER;CN="EcoMatters Environment Trust":MAILTO:info@ecomatters.org.nz
END:VEVENT
END:VCALENDAR